Workbook

Sheet 対比表（R8.1.1～R8.12.31）
B2: セーフティネット保証５号の指定業種の比較表
J3: ※グレー色・・・指定外
A5: (令和８年１月１日～令和８年３月31日) | C5: (令和８年４月１日～令和８年６月30日) | E5: (令和８年７月１日～令和８年９月30日) | G5: (令和８年10月１日～令和８年12月31日)
A6: 分類番号 | B6: 業種 | C6: 分類番号 | D6: 業種 | E6: 分類番号 | F6: 業種 | G6: 分類番号 | H6: 業種 | I6: 直近の指定の有無
A7: 0113 | B7: 野菜作農業（きのこ類の栽培を含む。）（製造加工設備を有するもやし栽培農業、作業所内において工場的生産設備（最小限温度又は湿度調節装置及び育成管理室を有することが必要。以下同じ。）をもって生産及び卸売する菌床栽培方式のきのこ栽培農業、並びに作業所内において工場的生産設備をもって生産及び卸売する苗床栽培方式のかいわれ大根栽培農業に限る。） | C7: 0113 | D7: 野菜作農業（きのこ類の栽培を含む。）（製造加工設備を有するもやし栽培農業、作業所内において工場的生産設備（最小限温度又は湿度調節装置及び育成管理室を有することが必要。以下同じ。）をもって生産及び卸売する菌床栽培方式のきのこ栽培農業、並びに作業所内において工場的生産設備をもって生産及び卸売する苗床栽培方式のかいわれ大根栽培農業に限る。） | E7: 0113 | F7: =VLOOKUP(E7,[1]分類番号!$A$4:$B$1172,2,0) -> 野菜作農業（きのこ類の栽培を含む。）（製造加工設備を有するもやし栽培農業、作業所内において工場的生産設備（最小限温度又は湿度調節装置及び育成管理室を有することが必要。以下同じ。）をもって生産及び卸売する菌床栽培方式のきのこ栽培農業、並びに作業所内において工場的生産設備をもって生産及び卸売する苗床栽培方式のかいわれ大根栽培農業に限る。） | G7: 0113 | H7: 野菜作農業（きのこ類の栽培を含む。）（製造加工設備を有するもやし栽培農業、作業所内において工場的生産設備（最小限温度又は湿度調節装置及び育成管理室を有することが必要。以下同じ。）をもって生産及び卸売する菌床栽培方式のきのこ栽培農業、並びに作業所内において工場的生産設備をもって生産及び卸売する苗床栽培方式のかいわれ大根栽培農業に限る。） | I7: ○
A8: 0116 | B8: 工芸農作物農業（製造加工設備を有する茶作農業であって、荒茶及び仕上茶の製造を行っているものに限る。） | C8: 0116 | D8: 工芸農作物農業（製造加工設備を有する茶作農業であって、荒茶及び仕上茶の製造を行っているものに限る。） | E8: 0116 | F8: =VLOOKUP(E8,[1]分類番号!$A$4:$B$1172,2,0) -> 工芸農作物農業（製造加工設備を有する茶作農業であって、荒茶及び仕上茶の製造を行っているものに限る。） | G8: 0116 | H8: 工芸農作物農業（製造加工設備を有する茶作農業であって、荒茶及び仕上茶の製造を行っているものに限る。） | I8: ○
A9: 0124 | B9: 養鶏業（人工ふ卵設備を有し、鶏卵の人工ふ化を行うものに限る。） | C9: 0124 | D9: 養鶏業（人工ふ卵設備を有し、鶏卵の人工ふ化を行うものに限る。） | E9: 0124 | F9: =VLOOKUP(E9,[1]分類番号!$A$4:$B$1172,2,0) -> 養鶏業（人工ふ卵設備を有し、鶏卵の人工ふ化を行うものに限る。） | G9: 0124 | H9: 養鶏業（人工ふ卵設備を有し、鶏卵の人工ふ化を行うものに限る。） | I9: ○
A10: 0126 | B10: 養蚕農業（製造加工設備を有する蚕種製造業に限る。） | C10: 0126 | D10: 養蚕農業（製造加工設備を有する蚕種製造業に限る。） | E10: 0126 | F10: =VLOOKUP(E10,[1]分類番号!$A$4:$B$1172,2,0) -> 養蚕農業（製造加工設備を有する蚕種製造業に限る。） | G10: 0126 | H10: 養蚕農業（製造加工設備を有する蚕種製造業に限る。）
A11: 0134 | B11: 畜産サービス業（獣医業を除く。）（製造加工設備を有する蚕種製造請負業、てい鉄修理業、人工ふ卵設備を有し鶏卵の人工ふ化を行うふ卵業、家畜貸付業に限る。） | C11: 0134 | D11: 畜産サービス業（獣医業を除く。）（製造加工設備を有する蚕種製造請負業、てい鉄修理業、人工ふ卵設備を有し鶏卵の人工ふ化を行うふ卵業、家畜貸付業に限る。） | E11: 0134 | F11: =VLOOKUP(E11,[1]分類番号!$A$4:$B$1172,2,0) -> 畜産サービス業（獣医業を除く。）（製造加工設備を有する蚕種製造請負業、てい鉄修理業、人工ふ卵設備を有し鶏卵の人工ふ化を行うふ卵業、家畜貸付業に限る。） | G11: 0134 | H11: 畜産サービス業（獣医業を除く。）（製造加工設備を有する蚕種製造請負業、てい鉄修理業、人工ふ卵設備を有し鶏卵の人工ふ化を行うふ卵業、家畜貸付業に限る。）
A12: 0141 | B12: 園芸サービス業 | C12: 0141 | D12: 園芸サービス業 | E12: 0141 | F12: =VLOOKUP(E12,[1]分類番号!$A$4:$B$1172,2,0) -> 園芸サービス業 | G12: 0141 | H12: 園芸サービス業
A13: 0221 | B13: 素材生産業 | C13: 0221 | D13: 素材生産業 | E13: 0221 | F13: =VLOOKUP(E13,[1]分類番号!$A$4:$B$1172,2,0) -> 素材生産業 | G13: 0221 | H13: 素材生産業 | I13: ○
A14: 0231 | B14: 製薪炭業（製造加工設備を有するものに限る。） | C14: 0231 | D14: 製薪炭業（製造加工設備を有するものに限る。） | E14: 0231 | F14: =VLOOKUP(E14,[1]分類番号!$A$4:$B$1172,2,0) -> 製薪炭業（製造加工設備を有するものに限る。） | G14: 0231 | H14: 製薪炭業（製造加工設備を有するものに限る。）
A15: 0242 | B15: 素材生産サービス業 | C15: 0242 | D15: 素材生産サービス業 | E15: 0242 | F15: =VLOOKUP(E15,[1]分類番号!$A$4:$B$1172,2,0) -> 素材生産サービス業 | G15: 0242 | H15: 素材生産サービス業 | I15: ○
A16: 0249 | B16: その他の林業サービス業（製造加工設備を有する薪請負製造業、炭焼請負業及び炭賃焼業に限る。） | C16: 0249 | D16: その他の林業サービス業（製造加工設備を有する薪請負製造業、炭焼請負業及び炭賃焼業に限る。） | E16: 0249 | F16: =VLOOKUP(E16,[1]分類番号!$A$4:$B$1172,2,0) -> その他の林業サービス業（製造加工設備を有する薪請負製造業、炭焼請負業及び炭賃焼業に限る。） | G16: 0249 | H16: その他の林業サービス業（製造加工設備を有する薪請負製造業、炭焼請負業及び炭賃焼業に限る。）
A17: 0414 | B17: 真珠養殖業（養殖から加工までを一貫作業として行っているものに限る。） | C17: 0414 | D17: 真珠養殖業（養殖から加工までを一貫作業として行っているものに限る。） | E17: 0414 | F17: =VLOOKUP(E17,[1]分類番号!$A$4:$B$1172,2,0) -> 真珠養殖業（養殖から加工までを一貫作業として行っているものに限る。） | G17: 0414 | H17: 真珠養殖業（養殖から加工までを一貫作業として行っているものに限る。）
A18: 0511 | B18: 金・銀鉱業 | C18: 0511 | D18: 金・銀鉱業 | E18: 0511 | F18: =VLOOKUP(E18,[1]分類番号!$A$4:$B$1172,2,0) -> 金・銀鉱業 | G18: 0511 | H18: 金・銀鉱業
A19: 0512 | B19: 鉛・亜鉛鉱業 | C19: 0512 | D19: 鉛・亜鉛鉱業 | E19: 0512 | F19: =VLOOKUP(E19,[1]分類番号!$A$4:$B$1172,2,0) -> 鉛・亜鉛鉱業 | G19: 0512 | H19: 鉛・亜鉛鉱業
A20: 0513 | B20: 鉄鉱業 | C20: 0513 | D20: 鉄鉱業 | E20: 0513 | F20: =VLOOKUP(E20,[1]分類番号!$A$4:$B$1172,2,0) -> 鉄鉱業 | G20: 0513 | H20: 鉄鉱業
A21: 0519 | B21: その他の金属鉱業 | C21: 0519 | D21: その他の金属鉱業 | E21: 0519 | F21: =VLOOKUP(E21,[1]分類番号!$A$4:$B$1172,2,0) -> その他の金属鉱業 | G21: 0519 | H21: その他の金属鉱業
A22: 0521 | B22: 石炭鉱業（石炭選別業を含む。） | C22: 0521 | D22: 石炭鉱業（石炭選別業を含む。） | E22: 0521 | F22: =VLOOKUP(E22,[1]分類番号!$A$4:$B$1172,2,0) -> 石炭鉱業（石炭選別業を含む。） | G22: 0521 | H22: 石炭鉱業（石炭選別業を含む。） | I22: ○
A23: 0522 | B23: 亜炭鉱業 | C23: 0522 | D23: 亜炭鉱業 | E23: 0522 | F23: =VLOOKUP(E23,[1]分類番号!$A$4:$B$1172,2,0) -> 亜炭鉱業 | G23: 0522 | H23: 亜炭鉱業
A24: 0531 | B24: 原油鉱業 | C24: 0531 | D24: 原油鉱業 | E24: 0531 | F24: =VLOOKUP(E24,[1]分類番号!$A$4:$B$1172,2,0) -> 原油鉱業 | G24: 0531 | H24: 原油鉱業
A25: 0532 | B25: 天然ガス鉱業 | C25: 0532 | D25: 天然ガス鉱業 | E25: 0532 | F25: =VLOOKUP(E25,[1]分類番号!$A$4:$B$1172,2,0) -> 天然ガス鉱業 | G25: 0532 | H25: 天然ガス鉱業
A26: 0541 | B26: 花こう岩・同類似岩石採石業 | C26: 0541 | D26: 花こう岩・同類似岩石採石業 | E26: 0541 | F26: =VLOOKUP(E26,[1]分類番号!$A$4:$B$1172,2,0) -> 花こう岩・同類似岩石採石業 | G26: 0541 | H26: 花こう岩・同類似岩石採石業 | I26: ○
A27: 0542 | B27: 石英粗面岩・同類似岩石採石業 | C27: 0542 | D27: 石英粗面岩・同類似岩石採石業 | E27: 0542 | F27: =VLOOKUP(E27,[1]分類番号!$A$4:$B$1172,2,0) -> 石英粗面岩・同類似岩石採石業 | G27: 0542 | H27: 石英粗面岩・同類似岩石採石業 | I27: ○
A28: 0543 | B28: 安山岩・同類似岩石採石業 | C28: 0543 | D28: 安山岩・同類似岩石採石業 | E28: 0543 | F28: =VLOOKUP(E28,[1]分類番号!$A$4:$B$1172,2,0) -> 安山岩・同類似岩石採石業 | G28: 0543 | H28: 安山岩・同類似岩石採石業 | I28: ○
A29: 0544 | B29: 大理石採石業 | C29: 0544 | D29: 大理石採石業 | E29: 0544 | F29: =VLOOKUP(E29,[1]分類番号!$A$4:$B$1172,2,0) -> 大理石採石業 | G29: 0544 | H29: 大理石採石業 | I29: ○
A30: 0545 | B30: 凝灰岩採石業 | C30: 0545 | D30: 凝灰岩採石業 | E30: 0545 | F30: =VLOOKUP(E30,[1]分類番号!$A$4:$B$1172,2,0) -> 凝灰岩採石業 | G30: 0545 | H30: ぎょう灰岩採石業
A31: 0546 | B31: 砂岩採石業 | C31: 0546 | D31: 砂岩採石業 | E31: 0546 | F31: =VLOOKUP(E31,[1]分類番号!$A$4:$B$1172,2,0) -> 砂岩採石業 | G31: 0546 | H31: 砂岩採石業 | I31: ○
A32: 0547 | B32: 粘板岩採石業 | C32: 0547 | D32: 粘板岩採石業 | E32: 0547 | F32: =VLOOKUP(E32,[1]分類番号!$A$4:$B$1172,2,0) -> 粘板岩採石業 | G32: 0547 | H32: 粘板岩採石業 | I32: ○
A33: 0548 | B33: 砂・砂利・玉石採取業 | C33: 0548 | D33: 砂・砂利・玉石採取業 | E33: 0548 | F33: =VLOOKUP(E33,[1]分類番号!$A$4:$B$1172,2,0) -> 砂・砂利・玉石採取業 | G33: 0548 | H33: 砂・砂利・玉石採取業 | I33: ○
A34: 0549 | B34: その他の採石業、砂・砂利・玉石採取業 | C34: 0549 | D34: その他の採石業、砂・砂利・玉石採取業 | E34: 0549 | F34: =VLOOKUP(E34,[1]分類番号!$A$4:$B$1172,2,0) -> その他の採石業、砂・砂利・玉石採取業 | G34: 0549 | H34: その他の採石業、砂・砂利・玉石採取業 | I34: ○
A35: 0551 | B35: 耐火粘土鉱業 | C35: 0551 | D35: 耐火粘土鉱業 | E35: 0551 | F35: =VLOOKUP(E35,[1]分類番号!$A$4:$B$1172,2,0) -> 耐火粘土鉱業 | G35: 0551 | H35: 耐火粘土鉱業 | I35: ○
A36: 0552 | B36: ろう石鉱業 | C36: 0552 | D36: ろう石鉱業 | E36: 0552 | F36: =VLOOKUP(E36,[1]分類番号!$A$4:$B$1172,2,0) -> ろう石鉱業 | G36: 0552 | H36: ろう石鉱業 | I36: ○
A37: 0553 | B37: ドロマイト鉱業 | C37: 0553 | D37: ドロマイト鉱業 | E37: 0553 | F37: =VLOOKUP(E37,[1]分類番号!$A$4:$B$1172,2,0) -> ドロマイト鉱業 | G37: 0553 | H37: ドロマイト鉱業 | I37: ○
A38: 0554 | B38: 長石鉱業 | C38: 0554 | D38: 長石鉱業 | E38: 0554 | F38: =VLOOKUP(E38,[1]分類番号!$A$4:$B$1172,2,0) -> 長石鉱業 | G38: 0554 | H38: 長石鉱業 | I38: ○
A39: 0555 | B39: けい石鉱業 | C39: 0555 | D39: けい石鉱業 | E39: 0555 | F39: =VLOOKUP(E39,[1]分類番号!$A$4:$B$1172,2,0) -> けい石鉱業 | G39: 0555 | H39: けい石鉱業 | I39: ○
A40: 0556 | B40: 天然けい砂鉱業 | C40: 0556 | D40: 天然けい砂鉱業 | E40: 0556 | F40: =VLOOKUP(E40,[1]分類番号!$A$4:$B$1172,2,0) -> 天然けい砂鉱業 | G40: 0556 | H40: 天然けい砂鉱業 | I40: ○
A41: 0557 | B41: 石灰石鉱業 | C41: 0557 | D41: 石灰石鉱業 | E41: 0557 | F41: =VLOOKUP(E41,[1]分類番号!$A$4:$B$1172,2,0) -> 石灰石鉱業 | G41: 0557 | H41: 石灰石鉱業 | I41: ○
A42: 0559 | B42: その他の窯業原料用鉱物鉱業 | C42: 0559 | D42: その他の窯業原料用鉱物鉱業 | E42: 0559 | F42: =VLOOKUP(E42,[1]分類番号!$A$4:$B$1172,2,0) -> その他の窯業原料用鉱物鉱業 | G42: 0559 | H42: その他の窯業原料用鉱物鉱業 | I42: ○
...
